BEGIN:VCALENDAR
VERSION:2.0
PRODID:-//igo - ECPv6.15.20//NONSGML v1.0//EN
CALSCALE:GREGORIAN
METHOD:PUBLISH
X-WR-CALNAME:igo
X-ORIGINAL-URL:https://www.igo-muenster.de
X-WR-CALDESC:Veranstaltungen für igo
REFRESH-INTERVAL;VALUE=DURATION:PT1H
X-Robots-Tag:noindex
X-PUBLISHED-TTL:PT1H
BEGIN:VTIMEZONE
TZID:Europe/Berlin
BEGIN:DAYLIGHT
TZOFFSETFROM:+0100
TZOFFSETTO:+0200
TZNAME:CEST
DTSTART:20250330T010000
END:DAYLIGHT
BEGIN:STANDARD
TZOFFSETFROM:+0200
TZOFFSETTO:+0100
TZNAME:CET
DTSTART:20251026T010000
END:STANDARD
BEGIN:DAYLIGHT
TZOFFSETFROM:+0100
TZOFFSETTO:+0200
TZNAME:CEST
DTSTART:20260329T010000
END:DAYLIGHT
BEGIN:STANDARD
TZOFFSETFROM:+0200
TZOFFSETTO:+0100
TZNAME:CET
DTSTART:20261025T010000
END:STANDARD
BEGIN:DAYLIGHT
TZOFFSETFROM:+0100
TZOFFSETTO:+0200
TZNAME:CEST
DTSTART:20270328T010000
END:DAYLIGHT
BEGIN:STANDARD
TZOFFSETFROM:+0200
TZOFFSETTO:+0100
TZNAME:CET
DTSTART:20271031T010000
END:STANDARD
BEGIN:DAYLIGHT
TZOFFSETFROM:+0100
TZOFFSETTO:+0200
TZNAME:CEST
DTSTART:20280326T010000
END:DAYLIGHT
BEGIN:STANDARD
TZOFFSETFROM:+0200
TZOFFSETTO:+0100
TZNAME:CET
DTSTART:20281029T010000
END:STANDARD
BEGIN:DAYLIGHT
TZOFFSETFROM:+0100
TZOFFSETTO:+0200
TZNAME:CEST
DTSTART:20290325T010000
END:DAYLIGHT
BEGIN:STANDARD
TZOFFSETFROM:+0200
TZOFFSETTO:+0100
TZNAME:CET
DTSTART:20291028T010000
END:STANDARD
END:VTIMEZONE
BEGIN:VEVENT
DTSTART;VALUE=DATE:20260601
DTEND;VALUE=DATE:20260603
DTSTAMP:20260420T082737
CREATED:20250213T191525Z
LAST-MODIFIED:20250911T163652Z
UID:2575-1780272000-1780444799@www.igo-muenster.de
SUMMARY:Workshop „Change“
DESCRIPTION:Change-Management meint die Umsetzung ausgewählter Maßnahmen\, um Abteilungen oder eine gesamte Organisation tiefgreifend zu verändern und von einem Ausgangszustand hin zu einem definierten Zielzustand zu bewegen. Change-Prozesse sind kompliziert und komplex\, so gut wie nie linear\, immer an konkrete Konstellationen gebunden. Sie werden zwar von Ausgangslagen und Zielsetzungen geprägt\, dazwischen aber entwickeln sich Prozesse\, die nur bedingt vorhersehbar sind und fast immer unerwartete Überraschungen mit sich bringen\, auf die im Prozess reagiert werden muss. \nVeränderungen sind fast immer mit Ambivalenzen verbunden. Etwas Bekanntes wird durch etwas Unbekanntes ersetzt. Die Sicherheit des Bekannten wird abgelöst durch die Hoffnung auf positive Entwicklung\, allerdings ohne Garantien\, bestenfalls mit guten Perspektiven oder Wahrscheinlichkeiten. Wir gehen der Frage nach\, was den Change in Organisationen so herausfordernd macht und reflektieren anhand von Fallvignetten Change-Projekte im Spannungsfeld von Planung und Realität. Wir erkunden\, wo uns gruppendynamische Zugänge und prozessorientiertes Arbeiten in Change-Vorhaben dienlich sind und wie sie ein methodisch geleitetes Verfahren sinnvoll ergänzen. \nChange-Prozesse gibt es nicht ohne Verstörungen\, Irritationen und Widerstände. Der Umgang mit diesen vermeintlichen Störungen braucht Handwerkszeug\, Durchhaltevermögen\, soziale und kommunikative Kompetenzen sowie emotionale Belastbarkeit. \nWir werden Change-Prozesse mit gruppen- und organisationsdynamischen „Brillen“ betrachten und daraus diagnostisches Wissen\, Handlungsimpulse und Interventionen entwickeln. \nZiele des Workshops\n\nEinflussfaktoren auf Change-Prozesse identifizieren und daraus eine tragfähige Change-Architektur entwickeln\nKlärung von Fragen zu Ausgangssituation und Zielperspektiven\nBetrachtung von Change aus unterschiedlichen Perspektiven (z. B. der eigenen Perspektive\, der der Berater*in und auch der übergreifenden Sicht auf parallel verlaufende Change-Vorhaben)\nVerbindung von gruppendynamischen Kompetenzen mit Change-Prozessen\nReflexion eigener Change-Prozesserfahrungen durch die Arbeit an Fallvignetten\nIdeen für den Umgang mit Irritationen und Widerständen entwickeln\nDie Bedeutung von Prozesskompetenz wahrnehmen und Instrumente der Prozesssteuerung kennenlernen\n\nLeitung des Workshops:\nAstrid Hasse und Michael Faßnacht \nAnmeldung bis 22. Mai 2026\nDie Workshop-Reihe zur igo-Organisationsberatung\nEin aktuelles Bonmot lautet \n„Veränderung ist das neue Normal.“ \nDies betrifft sowohl uns alle als Individuen als auch alle Organisationen\, Institutionen und Unternehmen. Veränderungen in den Rahmenbedingungen in Gesellschaft\, Wirtschaft und Politik machen Anpassungsleistungen notwendig. Diese Anpassungen können als Reaktion auf veränderte Außenbedingungen oder vorausschauend auf vermutete Veränderungen erfolgen. Sie sind immer mit einer Änderung des bestehenden Status quo verbunden. \nWir möchten mit der dreiteiligen Workshop-Reihe „Organisation“ eine Plattform bieten\, die Gelegenheit schafft\, sich mit den Entwicklungen\, die aktuell auf Organisationen passiv oder aktiv einwirken\, zu beschäftigen. Die Workshops sollen ein Austauschforum für Erfahrungen\, eine Ideenschmiede für Lösungen\, ein Marktplatz zum Netzwerken und ein geschützter Raum zum Experimentieren sein. \nDas Format „Workshop“ ist für uns eine kreative und konstruktive Arbeitsform\, die dem Wissen\, den Erfahrungen und dem Ideenreichtum aller Beteiligten einen Raum gibt\, um gemeinsam an spannenden Fragen zu arbeiten und mit guten Anregungen ausgestattet wieder in die jeweiligen beruflichen Kontexte zurückzugehen. \nDrei Schwerpunktthemen fokussieren uns in dieser Arbeit: \n\nOrganisation\nChange\nDiagnosen und Interventionen\n\nJedes dieser Schwerpunktthemen ist mit einem Zeitbudget von zwei Workshop-Tagen ausgestattet und wird von je zwei Organisationsexpert*innen begleitet. Eine begrenzte Zahl von Teilnehmer*innen stellt sicher\, dass mit hohem individuellen Praxisbezug gearbeitet werden kann. Eine ausgewogene Mixtur aus Inputs\, Erfahrungsaustausch\, Arbeit an konkreten Fallbeispielen ermöglicht praxisnahes Arbeiten und die Entwicklung konstruktiver Lösungen. \nDiese Workshop-Reihe spricht Menschen an\, \n\ndie verantwortlich für die Entwicklung und Steuerung von Unternehmen sind oder die sich auf solche Aufgaben vorbereiten\nLeitungskräfte\, die sich mit Wirkfaktoren in Organisationen differenzierter beschäftigen wollen\nBerater*innen von Organisationen\, die ihre diagnostischen Kompetenzen und ihr Interventionsrepertoire ausbauen wollen\nCoaches und Supervisor*innen\, die differenziertes Organisations-Know-how in ihr Supportprofil integrieren wollen\ndie mehr über das Innenleben von Organisationen verstehen wollen\n\nSie können jedoch auch als Einzelworkshop wie auch als Dreierpaket gebucht werden. Bei Buchung als Dreierpaket gewähren wir einen Paketrabatt von 185\,00 €. \nDas igo-Team aus Münster freut sich auf Ihre Anmeldung und Beteiligung. \n» Download Folder (PDF)
URL:https://www.igo-muenster.de/veranstaltung/workshop-change/
LOCATION:Praxis Dr. Monika Maaßen\, Portal 10\, Albersloher Weg 10c\, Eingang C\, 2. Etage\, barrierefrei\, Münster\, 48155
ATTACH;FMTTYPE=image/jpeg:https://www.igo-muenster.de/wp-content/uploads/igo-header-workshops-organisationsberatunf_02-scaled.jpg
END:VEVENT
BEGIN:VEVENT
DTSTART;TZID=Europe/Berlin:20260904T110000
DTEND;TZID=Europe/Berlin:20260904T160000
DTSTAMP:20260420T082737
CREATED:20250728T172431Z
LAST-MODIFIED:20250728T190638Z
UID:2743-1788519600-1788537600@www.igo-muenster.de
SUMMARY:Informationstag „Leiten und Beraten von Gruppen und Teams“
DESCRIPTION:Berufsbegleitende gruppendynamische Zusatzqualifikation 2026–2028\nDer Informationstag ist ein Planungs- und Entscheidungsworkshop und gibt Ihnen Gelegenheit\, sich über den beruflichen Werdegang und jetzigen Standort bewusst zu werden\, um daraus persönliche Lernvorstellungen für die Kursabschnitte zu entwickeln. Gleichzeitig lernen Sie andere TeilnehmerInnen und die LeiterInnen kennen. Das Gesamtkonzept wird vorgestellt\, inhaltliche und organisatorische Fragen werden besprochen. \nIhre Teilnahme an diesem Workshop ist Voraussetzung für den Einstieg in die Ausbildung! \nIn Ausnahmefällen kann stattdessen ein Einzelgespräch stattfinden.
URL:https://www.igo-muenster.de/veranstaltung/informationstag-leiten-und-beraten-von-gruppen-und-teams-3/
ATTACH;FMTTYPE=image/jpeg:https://www.igo-muenster.de/wp-content/uploads/25_07_28-header-leiten-und-beraten-scaled-e1753729485464.jpg
END:VEVENT
BEGIN:VEVENT
DTSTART;VALUE=DATE:20260908
DTEND;VALUE=DATE:20260913
DTSTAMP:20260420T082737
CREATED:20260212T172738Z
LAST-MODIFIED:20260212T173719Z
UID:2841-1788825600-1789257599@www.igo-muenster.de
SUMMARY:Zusammenarbeit in Gruppen
DESCRIPTION:Zwischen Unterschiedlichkeit und gemeinsamer Orientierung\nGruppendynamisches Training\n \nGruppendynamik als Führungs- und Gestaltungskompetenz verstehen und nutzen\nIn Teams und Arbeitsgruppen entstehen zentrale Wirkungen nicht allein aus Aufgaben oder einzelnen Personen\, sondern aus dem\, was zwischen ihnen und in der Gruppe als Ganzes geschieht. Beziehungen\, Spannungen\, Zugehörigkeit\, Nähe und Distanz sowie unausgesprochene Dynamiken prägen Zusammenarbeit\, Entscheidungen und Kommunikation maßgeblich. \nDieses gruppendynamische Intensivtraining bietet die Möglichkeit\, solche Prozesse im Hier-und-Jetzt live zu erleben\, gemeinsam zu reflektieren und für Klarheit\, Orientierung und verantwortliches Handeln in Leitung\, Führung und der professionellen Gestaltung von Gruppen nutzbar zu machen. \nDas erwartet Sie:\nProzess- & Kooperationsfokus\n\nProzesse erkennen\, die Zusammenarbeit fördern oder erschweren\nVerstehen\, wie Arbeitsfähigkeit entsteht\, erhalten bleibt oder verloren geht\n\nStrukturen & Dynamiken\n\nWirkung formeller und informeller Strukturen auf das Miteinander\nSichtbare und weniger sichtbare Dynamiken\, die Kommunikation\, Entscheiden und Handeln prägen\n\nWahrnehmung & Rolle\n\nDifferenziertere Wahrnehmung: was Gruppen zusammenhält\, was herausfordert\nReflexion der eigenen Rolle und ihres Einflusses im Prozess\n\nReflexion & Transfer\n\nMehr Klarheit im Umgang mit Komplexität\, Unterschiedlichkeit und Spannung\nGrundlage für bewusstes\, verantwortliches Handeln im beruflichen Kontext\n\nNutzen\n\nKlarheit über Gruppenprozesse und das\, was zwischen Menschen wirkt\nUmgang mit Komplexität\, Unterschiedlichkeit und Spannungen\nVerständnis von formellen und informellen Rollen/Strukturen in Teams\nGeschärfte Wahrnehmung für Dynamiken\, die Kommunikation\, Entscheidungen und Zusammenarbeit beeinflussen\nStärkung der eigenen Rollen- und Handlungssicherheit im Gruppengeschehen\n\nZielgruppe\n\nFührungskräfte und Leitungspersonen\nFachkräfte mit Koordinations-\, Leitungs- oder Steuerungsaufgaben\nPersonen aus dem Gesundheits- u. Sozialwesen\nMitarbeitende aus Bildungs- und anderen Organisationskontexten\nalle\, die sich mit Rolle\, Wirkung\, Macht und Verantwortung im Gruppengeschehen auseinandersetzen wollen\n\n\nVerstehen\nGruppenprozesse werden im Erleben sichtbar. Eigene Wahrnehmungen\, Muster und Wirkungen können erkannt und eingeordnet werden. \nOrientierung gewinnen\nDie Teilnehmenden klären ihre Rolle\, ihren Einfluss und ihre Verantwortung im Gruppengeschehen und erweitern ihre\nHandlungsspielräume im Arbeitsalltag. \nZusammenarbeit gestalten\nDer Umgang mit Unterschiedlichkeit\, Nähe\, Distanz und Spannung zeigt sich im Miteinander der Gruppe und kann\nreflektiert werden. \n„Wer Gruppen leitet\, sollte Gruppen erlebt haben.“ \nLernen Sie\, die Kraft der Gruppe zu verstehen und sie als lebendigen\, konstruktiven Raum zu gestalten. \n\nFakten und Organisation\nSeminarleitung\nGerhard Haneklau\nKaufmann\, seit 16 Jahren Geschäftsführer des MVZ Portal 10\, Trainer für Gruppendynamik DGGO\, gruppendynamischer Organisationsberater DGGO\, Coach und Supervisor DGSv\, Gesellschafter des Instituts für Gruppendynamik und Organisationsberatung (IGO) Münster. \nDr. René Roith\nDipl.-Psych.\, Psychologischer Psychotherapeut\, seit 2004 in eigener Niederlassung\, Einzel- und Gruppenpsychotherapie (VT\, ST)\, Lehrtherapeut und Supervisor (OPK)\, KBV-Gutachter\, Trainer für Gruppendynamik i.A. (DGGO) \n\nZeitraum: Dienstag\, 08.09. bis Samstag\, 12.09.2026\nOrt: Alte Nudelfabrik\, Werkstraße 4\, 06712 Zeitz (bei Leipzig)\, www.nudelfabrik.eu\nTeilnahmegebühr: 1.200 € (Frühbuchung)\, ab 01.05.2026: 1.400 €\nzzgl. Ü./V. ca. 650 €\nAnmeldung und Fragen: gruppendynamik@posteo.de\nAnmeldeschluss: 15.07.2026 \nDas Training entspricht den Weiterbildungsrichtlinien der DGGO \n» Download Flyer (PDF)
URL:https://www.igo-muenster.de/veranstaltung/zusammenarbeit-in-gruppen/
LOCATION:Nudelfabrik Zeitz\, Neue Werkstraße 4\, Zeitz (bei Leipzig)\, 06712\, Germany
END:VEVENT
BEGIN:VEVENT
DTSTART;TZID=Europe/Berlin:20261001T183000
DTEND;TZID=Europe/Berlin:20261001T200000
DTSTAMP:20260420T082737
CREATED:20260417T160334Z
LAST-MODIFIED:20260417T160403Z
UID:2888-1790879400-1790884800@www.igo-muenster.de
SUMMARY:Chancen und Risiken in Change-Prozessen
DESCRIPTION:igo Online-Forum „Einblicke“
URL:https://www.igo-muenster.de/veranstaltung/chancen-und-risiken-in-change-prozessen/
LOCATION:online
END:VEVENT
BEGIN:VEVENT
DTSTART;VALUE=DATE:20261019
DTEND;VALUE=DATE:20261021
DTSTAMP:20260420T082737
CREATED:20250213T191839Z
LAST-MODIFIED:20250911T163619Z
UID:2576-1792368000-1792540799@www.igo-muenster.de
SUMMARY:Workshop „Diagnosen und Interventionen“
DESCRIPTION:Workshop 3 zur igo-Organisationsberatung\nEin Wechselspiel zwischen Diagnose und Intervention begleitet bei Veränderungen den Prozess. Bereits mit Beginn des Beratungsprozesses bedarf es der ständigen Überprüfung der eigenen Diagnose und der entsprechenden Vorbereitung und ggf. Anpassung der nächsten Intervention. Die Begleitung von Entwicklungen und Veränderungen von Organisationen erfordert eine sorgfältige und flexible Strategie. Alle Systeme innerhalb der Organisation werden betrachtet\, überprüft und einbezogen. \nDie Erstellung einer Arbeitshypothese zum Zustand des Systems und eine Planung mit geeigneten Diagnoseinstrumente sollen die geplante Intervention ermöglichen\, um Prozesse in Gruppen\, Teams und damit Organisationen in Gang zu setzen. Die mehrperspektivische Betrachtung auf die Organisation wird analysiert\, unterschiedliche Wahrnehmungen werden deutlich und verifiziert. Die Strukturen\, die sich innerhalb von Gruppen\, Teams und Organisationen entwickelt haben\, werden sichtbar und verdeutlichen\, welche Interventionen erforderlich sind. \nDie Analyse des anstehenden Prozesses\, die mögliche Wirkung auf die Beteiligten und die Überprüfung des angestrebten Ziels oder Ergebnisses ermöglichen erste diagnostische Erkenntnisse. Dazu werden Instrumente oder Methoden benötigt\, um erste Hypothesen zu gewinnen. Mit einer Abfolge von Wahrnehmen\, Erkennen und Verändern können die anstehenden Arbeits- und Planungsschritte bearbeitet werden. Die subjektive Wahrnehmung gibt bei der Vorbereitung Aufschluss darüber\, was konkret verändert werden soll: eine Gruppe\, ein Team oder die Organisation\, deren Abläufe etc. \nDas Erkennen hebt das Beschriebene auf eine erste Verstehensebene\, die die Hypothesenbildung ermöglicht und die Richtung der Intervention sichtbar macht. \nDas Verändern kann dann durch passende Intervention(en) angeregt werden. Diese brauchen die Diagnose\, um auf das System zu passen. \nZiele des Workshops\n\nDie Beschäftigung in diesem Workshop mit dem Thema „Diagnosen und Intervention“ ermöglicht\ndas Kennenlernen von Diagnoseinstrumenten\ndie Wahrnehmung von unbewussten Strukturen und Systemen\ndie Beschäftigung mit Einflussfaktoren und verschiedenen Interessen von Mitgliedern einer Organisation\, z. B. Machtverhältnissen\ndie Beschreibung des individuellen Interventionsstils und dessen Wirkung\ndas Erarbeiten von Diagnosen und Interventionen in Organisationen\, u. a. vorgestellt durch die Teilnehmenden des Workshops\n\nLeitung des Workshops:\nNicole Sicking und Dr. Monika Maaßen \nAnmeldung bis 9. Oktober 2026\nDie Workshop-Reihe zur igo-Organisationsberatung\nEin aktuelles Bonmot lautet \n„Veränderung ist das neue Normal.“ \nDies betrifft sowohl uns alle als Individuen als auch alle Organisationen\, Institutionen und Unternehmen. Veränderungen in den Rahmenbedingungen in Gesellschaft\, Wirtschaft und Politik machen Anpassungsleistungen notwendig. Diese Anpassungen können als Reaktion auf veränderte Außenbedingungen oder vorausschauend auf vermutete Veränderungen erfolgen. Sie sind immer mit einer Änderung des bestehenden Status quo verbunden. \nWir möchten mit der dreiteiligen Workshop-Reihe „Organisation“ eine Plattform bieten\, die Gelegenheit schafft\, sich mit den Entwicklungen\, die aktuell auf Organisationen passiv oder aktiv einwirken\, zu beschäftigen. Die Workshops sollen ein Austauschforum für Erfahrungen\, eine Ideenschmiede für Lösungen\, ein Marktplatz zum Netzwerken und ein geschützter Raum zum Experimentieren sein. \nDas Format „Workshop“ ist für uns eine kreative und konstruktive Arbeitsform\, die dem Wissen\, den Erfahrungen und dem Ideenreichtum aller Beteiligten einen Raum gibt\, um gemeinsam an spannenden Fragen zu arbeiten und mit guten Anregungen ausgestattet wieder in die jeweiligen beruflichen Kontexte zurückzugehen. \nDrei Schwerpunktthemen fokussieren uns in dieser Arbeit: \n\nOrganisation\nChange\nDiagnosen und Interventionen\n\nJedes dieser Schwerpunktthemen ist mit einem Zeitbudget von zwei Workshop-Tagen ausgestattet und wird von je zwei Organisationsexpert*innen begleitet. Eine begrenzte Zahl von Teilnehmer*innen stellt sicher\, dass mit hohem individuellen Praxisbezug gearbeitet werden kann. Eine ausgewogene Mixtur aus Inputs\, Erfahrungsaustausch\, Arbeit an konkreten Fallbeispielen ermöglicht praxisnahes Arbeiten und die Entwicklung konstruktiver Lösungen. \nDiese Workshop-Reihe spricht Menschen an\, \n\ndie verantwortlich für die Entwicklung und Steuerung von Unternehmen sind oder die sich auf solche Aufgaben vorbereiten\nLeitungskräfte\, die sich mit Wirkfaktoren in Organisationen differenzierter beschäftigen wollen\nBerater*innen von Organisationen\, die ihre diagnostischen Kompetenzen und ihr Interventionsrepertoire ausbauen wollen\nCoaches und Supervisor*innen\, die differenziertes Organisations-Know-how in ihr Supportprofil integrieren wollen\ndie mehr über das Innenleben von Organisationen verstehen wollen\n\nSie können jedoch auch als Einzelworkshop wie auch als Dreierpaket gebucht werden. Bei Buchung als Dreierpaket gewähren wir einen Paketrabatt von 185\,00 €. \nDas igo-Team aus Münster freut sich auf Ihre Anmeldung und Beteiligung. \n» Download Folder (PDF)
URL:https://www.igo-muenster.de/veranstaltung/workshop-diagnosen-und-interventionen/
LOCATION:Praxis Dr. Monika Maaßen\, Portal 10\, Albersloher Weg 10c\, Eingang C\, 2. Etage\, barrierefrei\, Münster\, 48155
ATTACH;FMTTYPE=image/jpeg:https://www.igo-muenster.de/wp-content/uploads/igo-header-workshops-organisationsberatunf_03-scaled.jpg
END:VEVENT
BEGIN:VEVENT
DTSTART;TZID=Europe/Berlin:20261118T143000
DTEND;TZID=Europe/Berlin:20261122T130000
DTSTAMP:20260420T082737
CREATED:20250728T175915Z
LAST-MODIFIED:20251009T184555Z
UID:2761-1795012200-1795352400@www.igo-muenster.de
SUMMARY:Die Person im Kontext der Gruppe
DESCRIPTION:Sensitivity Training\nDieses Training ist das erste Training einer berufsbegleitenden Fortbildungsreihe\, es kann als Einzeltraining gebucht werden. Die Gruppengröße des Trainings liegt bei 20–25 Personen. Das Training startet am Mittwoch\, 18.11.2026\, um 14:30 Uhr und endet am Sonntag\, 22.11.2026\, um 13:00 Uhr. Vollständige Anwesenheit ist Teilnahmevoraussetzung. \n 
URL:https://www.igo-muenster.de/veranstaltung/die-person-im-kontext-der-gruppe/
LOCATION:Kolping-Bildungsstätte Coesfeld\, Gerlever Weg 1\, Coesfeld\, 48653
ATTACH;FMTTYPE=image/jpeg:https://www.igo-muenster.de/wp-content/uploads/igo-leiten-und-beraten.jpg
END:VEVENT
BEGIN:VEVENT
DTSTART;TZID=Europe/Berlin:20270707T143000
DTEND;TZID=Europe/Berlin:20270711T130000
DTSTAMP:20260420T082737
CREATED:20241123T115755Z
LAST-MODIFIED:20250728T185159Z
UID:2472-1814970600-1815310800@www.igo-muenster.de
SUMMARY:Prozesse in Gruppen
DESCRIPTION:Gruppendynamisches Training\, Coesfeld\nIn diesem Training geht es – ausgehend vom eigenen Erleben – um die Auseinandersetzung mit unterschiedlich akzentuierten Gruppensituationen: \n\nsich selbst in Wechselwirkung zum jeweiligen Gruppenprozess erfahren\,\ndie eigenen Reaktionsmuster erkennen und auf dem Hintergrund der persönlichen Biografie verstehen\nsich und andere in unterschiedlichen Kommunikationssituationen erleben und Wege der Interessenregulierung finden\ngruppendynamische Prozesse erkennen\, angemessen verbalisieren und damit zielbezogen umgehen;\nGruppensituationen\, -prozesse unter institutionellen Bedingungen reflektieren und analysieren\n\nDieses Training ist das zweite Training einer berufsbegleitenden Fortbildungsreihe\, es kann als Einzeltraining gebucht werden. Die Gruppengröße des Trainings liegt bei 20–25 Personen. Das Training startet am Mittwoch\, 07.07.2027\, um 14:30 Uhr und endet am Sonntag\, 11.07.2027\, um 13:00 Uhr. Vollständige Anwesenheit ist Teilnahmevoraussetzung. \nDas Training entspricht den Ausbildungsrichtlinien der Deutschen Gesellschaft für Gruppendynamik und Organisationsdynamik DGGO. \nZu Vorbereitung auf das Training empfehlen wir als Literatur: König\, Oliver; Schattenhofer\, Karl: Einführung in die Gruppendynamik. Heidelberg\, 2022. \nKosten für Übernachtung und Vollpension ca. 90\,00–95\,00 €/Tag (zahlbar direkt im Tagungshaus)
URL:https://www.igo-muenster.de/veranstaltung/prozesse-in-gruppen/
LOCATION:Kolping-Bildungsstätte Coesfeld\, Gerlever Weg 1\, Coesfeld\, 48653
ATTACH;FMTTYPE=image/jpeg:https://www.igo-muenster.de/wp-content/uploads/igo-leiten-und-beraten.jpg
END:VEVENT
BEGIN:VEVENT
DTSTART;TZID=Europe/Berlin:20280308T143000
DTEND;TZID=Europe/Berlin:20280312T110000
DTSTAMP:20260420T082737
CREATED:20250621T044826Z
LAST-MODIFIED:20260411T143534Z
UID:2617-1836138600-1836471600@www.igo-muenster.de
SUMMARY:Strukturen und Prozesse in Organisationen
DESCRIPTION:Gruppendynamisches Training\, Coesfeld\n \nIn diesem Training geht es – ausgehend vom eigenen Erleben – um die Auseinandersetzung mit Strukturen und Prozessabläufen\, die das Handeln und Verhalten in Organisationen prägen: \n\ndie eigene Rolle erleben\, reflektieren und gestalten\ndie eigenen Reaktionsmuster erkennen und auf dem Hintergrund der persönlichen Biografie verstehen\nsich und andere in unterschiedlichen Kommunikationssituationen erleben und Wege der Interessenregulierung finden\norganisationsdynamische Prozesse erkennen\, angemessen verbalisieren und damit zielbezogen umgehen;\nGruppensituationen\, -prozesse unter institutionellen Bedingungen reflektieren und analysieren\ndas Zusammenspiel von Substrukturen erleben und verstehen\ndas Spannungsfeld zwischen Organisationsinteressen und individuellen Interessen erleben und gestalten lernen\n\nStaff: Dr. Monika Maaßen\, Gerhard Haneklau\, N.N.\, N.N. \nKurskosten: 950\,00 € zzgl. 19 % Mwst. (zahlbar nach Rechnungsstellung) \nKosten für Übernachtung und Vollpension ca. 90\,00–95\,00 €/Tag (zahlbar direkt im Tagungshaus) \nDieses Training ist das dritte Training einer berufsbegleitenden Weiterbildungsreihe\, es kann auch als Einzeltraining gebucht werden. Die Gruppengröße liegt bei 25–30 Personen. Das Training startet am Mittwoch\, 23.02.2028\, um 14:30 Uhr und endet am Sonntag\, 27.02.2028 um 13:00 Uhr. Vollständige Anwesenheit ist Teilnahmevoraussetzung. \nDas Training entspricht den Ausbildungsrichtlinien der Deutschen Gesellschaft für Gruppendynamik und Organisationsdynamik DGGO. \nSchriftliche Anmeldung mit unserem Anmeldeformular bis zum 09.01.2028. Die Vergabe der Plätze erfolgt in der Reihenfolge der Anmeldung. \nZur Vorbereitung auf das Training empfehlen wir als Literatur: König\, Oliver; Schattenhofer\, Karl: Einführung in die Gruppendynamik. Heidelberg\, 2022.
URL:https://www.igo-muenster.de/veranstaltung/strukturen-und-prozesse-in-organisationen-2/
LOCATION:Kolping-Bildungsstätte Coesfeld\, Gerlever Weg 1\, Coesfeld\, 48653
ATTACH;FMTTYPE=image/jpeg:https://www.igo-muenster.de/wp-content/uploads/igo-leiten-und-beraten.jpg
END:VEVENT
END:VCALENDAR